BEGIN:VCALENDAR
VERSION:2.0
PRODID:-//Jackson (MS) Alumnae Chapter - ECPv6.15.20//NONSGML v1.0//EN
CALSCALE:GREGORIAN
METHOD:PUBLISH
X-WR-CALNAME:Jackson (MS) Alumnae Chapter
X-ORIGINAL-URL:https://jacksonmsalumnae.org
X-WR-CALDESC:Events for Jackson (MS) Alumnae Chapter
REFRESH-INTERVAL;VALUE=DURATION:PT1H
X-Robots-Tag:noindex
X-PUBLISHED-TTL:PT1H
BEGIN:VTIMEZONE
TZID:America/Chicago
BEGIN:DAYLIGHT
TZOFFSETFROM:-0600
TZOFFSETTO:-0500
TZNAME:CDT
DTSTART:20240310T080000
END:DAYLIGHT
BEGIN:STANDARD
TZOFFSETFROM:-0500
TZOFFSETTO:-0600
TZNAME:CST
DTSTART:20241103T070000
END:STANDARD
BEGIN:DAYLIGHT
TZOFFSETFROM:-0600
TZOFFSETTO:-0500
TZNAME:CDT
DTSTART:20250309T080000
END:DAYLIGHT
BEGIN:STANDARD
TZOFFSETFROM:-0500
TZOFFSETTO:-0600
TZNAME:CST
DTSTART:20251102T070000
END:STANDARD
BEGIN:DAYLIGHT
TZOFFSETFROM:-0600
TZOFFSETTO:-0500
TZNAME:CDT
DTSTART:20260308T080000
END:DAYLIGHT
BEGIN:STANDARD
TZOFFSETFROM:-0500
TZOFFSETTO:-0600
TZNAME:CST
DTSTART:20261101T070000
END:STANDARD
END:VTIMEZONE
BEGIN:VEVENT
DTSTART;TZID=America/Chicago:20250201T100000
DTEND;TZID=America/Chicago:20250201T120000
DTSTAMP:20260424T061642
CREATED:20241230T172811Z
LAST-MODIFIED:20250120T142307Z
UID:2683-1738404000-1738411200@jacksonmsalumnae.org
SUMMARY:Go Red for Women: Total Body Fitness
DESCRIPTION:Join us on February 1\, 2025 at 10 am at Kirskey Middle School as we bring awareness to Heart Disease at our Go Red For Women: Total Body Fitness Event. Come dressed in your workout gear and be prepared to increase that heart rate.
URL:https://jacksonmsalumnae.org/event/go-red-for-women-total-body-fitness/
LOCATION:Kirksey Middle School\, 5677 Highland Drive\, Jackson\, MS\, 39206
ATTACH;FMTTYPE=image/png:https://jacksonmsalumnae.org/wp-content/uploads/2025/01/image-2.png
END:VEVENT
BEGIN:VEVENT
DTSTART;TZID=America/Chicago:20250208T080000
DTEND;TZID=America/Chicago:20250208T110000
DTSTAMP:20260424T061642
CREATED:20250203T152020Z
LAST-MODIFIED:20250203T152020Z
UID:2906-1739001600-1739012400@jacksonmsalumnae.org
SUMMARY:Chapter Meeting
DESCRIPTION:The Jackson (MS) Alumnae Chapter of Delta Sigma Theta Sorority\, Inc.\, meets on the second Saturday of each month (October – April and on the third Saturday in September and May unless otherwise noted on the Calendar). \nMeetings are ONLY open to duly initiated members of Delta Sigma Theta Sorority\, Incorporated. Consequently\, proof of membership is required and must be verified before admittance to chapter meetings is granted. Accordingly\, visiting sorors are welcome but must be prepared to present their membership cards or credentials and photo identification to the Jackson (MS) Alumnae Chapter Sergeant-At-Arms upon arrival. First time visitors are encouraged to arrive early to allow time for your credentials to be verified before the start of the meeting. \nIf you desire to attend our meetings but have misplaced your membership card and are unable to verify your membership by other means\, complete the membership verification form prior to attending the meeting and submit it to Delta Sigma Theta National Headquarters Staff for verification\, or contact the Chapter President for assistance with verification. \nPLEASE CLICK HERE FOR THE VERIFICATION OF MEMBERSHIP FORM \nPlease be advised that business attire is required for every chapter meeting. \nFor additional information\, please contact MembershipServices@jacksonmsalumnae.org. \nIndividuals seeking membership in Delta Sigma Theta Sorority\, Inc. will NOT be admitted into the chapter meeting. For information regarding membership qualifications\, please visit our national website at www.deltasigmatheta.org.
URL:https://jacksonmsalumnae.org/event/chapter-meeting-3/
LOCATION:Kirksey Middle School\, 5677 Highland Drive\, Jackson\, MS\, 39206
ATTACH;FMTTYPE=image/png:https://jacksonmsalumnae.org/wp-content/uploads/2025/02/JMAC-Chapter-Meeting-February.png
END:VEVENT
BEGIN:VEVENT
DTSTART;TZID=America/Chicago:20250220T183000
DTEND;TZID=America/Chicago:20250220T200000
DTSTAMP:20260424T061642
CREATED:20250203T195125Z
LAST-MODIFIED:20250203T195125Z
UID:2913-1740076200-1740081600@jacksonmsalumnae.org
SUMMARY:Cybersecurity: Stay Aware\, Stay Safe!
DESCRIPTION:Protect your most valuable asset\, YOU! Join the Jackson (MS) Alumnae Chapter’s Emergency Response Team to learn from the experts on how to protect yourself from cyberthreats.
URL:https://jacksonmsalumnae.org/event/cybersecurity-stay-aware-stay-safe/
CATEGORIES:Emergency Response Team
ATTACH;FMTTYPE=image/png:https://jacksonmsalumnae.org/wp-content/uploads/2025/02/Cyber-Security-Flyer.png
END:VEVENT
BEGIN:VEVENT
DTSTART;TZID=America/Chicago:20250222T083000
DTEND;TZID=America/Chicago:20250222T110000
DTSTAMP:20260424T061642
CREATED:20250120T141108Z
LAST-MODIFIED:20250120T141108Z
UID:2744-1740213000-1740222000@jacksonmsalumnae.org
SUMMARY:2025 Small Business & Entrepreneurship Resource Seminar
DESCRIPTION:🔑 “Empowering Economic Growth Through Innovation and Ownership” \nThis seminar is designed in partnership with the JSU College of Business to empower aspiring entrepreneurs and current small business owners with the resources\, tools\, and knowledge necessary to succeed in today’s competitive marketplace. \nFeatured Speakers:\n✨ Dwanna Stanley\, Broker Owner\, The Agency Haus!\n✨ Dr. Roy Rucker\, Owner Trecig\, LLC.\n✨ Richard Bradley\, Owner Metro Booming Training Academy\, MBAR Sports Lounge\n✨ Rickey D. Jones\, JSU College of Business\n✨and MORE! \nThere is NO cost to attend. Advanced registration is recommended. \nLet’s build generational wealth and empower our communities through economic development!
URL:https://jacksonmsalumnae.org/event/2025-small-business-entrepreneurship-resource-seminar/
LOCATION:JSU College of Business (Auditorium)
CATEGORIES:Economic Development
ATTACH;FMTTYPE=image/png:https://jacksonmsalumnae.org/wp-content/uploads/2025/01/JMAC-SMall-Business.png
END:VEVENT
END:VCALENDAR