BEGIN:VCALENDAR
VERSION:2.0
PRODID:-//Jackson (MS) Alumnae Chapter - ECPv6.15.20//NONSGML v1.0//EN
CALSCALE:GREGORIAN
METHOD:PUBLISH
X-ORIGINAL-URL:https://jacksonmsalumnae.org
X-WR-CALDESC:Events for Jackson (MS) Alumnae Chapter
REFRESH-INTERVAL;VALUE=DURATION:PT1H
X-Robots-Tag:noindex
X-PUBLISHED-TTL:PT1H
BEGIN:VTIMEZONE
TZID:America/Chicago
BEGIN:DAYLIGHT
TZOFFSETFROM:-0600
TZOFFSETTO:-0500
TZNAME:CDT
DTSTART:20240310T080000
END:DAYLIGHT
BEGIN:STANDARD
TZOFFSETFROM:-0500
TZOFFSETTO:-0600
TZNAME:CST
DTSTART:20241103T070000
END:STANDARD
BEGIN:DAYLIGHT
TZOFFSETFROM:-0600
TZOFFSETTO:-0500
TZNAME:CDT
DTSTART:20250309T080000
END:DAYLIGHT
BEGIN:STANDARD
TZOFFSETFROM:-0500
TZOFFSETTO:-0600
TZNAME:CST
DTSTART:20251102T070000
END:STANDARD
BEGIN:DAYLIGHT
TZOFFSETFROM:-0600
TZOFFSETTO:-0500
TZNAME:CDT
DTSTART:20260308T080000
END:DAYLIGHT
BEGIN:STANDARD
TZOFFSETFROM:-0500
TZOFFSETTO:-0600
TZNAME:CST
DTSTART:20261101T070000
END:STANDARD
END:VTIMEZONE
BEGIN:VEVENT
DTSTART;TZID=America/Chicago:20250111T100000
DTEND;TZID=America/Chicago:20250111T120000
DTSTAMP:20260424T073908
CREATED:20250106T173643Z
LAST-MODIFIED:20250106T173643Z
UID:2701-1736589600-1736596800@jacksonmsalumnae.org
SUMMARY:Chapter Meeting
DESCRIPTION:The Jackson (MS) Alumnae Chapter of Delta Sigma Theta Sorority\, Inc.\, meets on the second Saturday of each month (October – April and on the third Saturday in September and May unless otherwise noted on the Calendar). Chapter Meetings begin at 10:00 a.m. \nMeetings are ONLY open to duly initiated members of Delta Sigma Theta Sorority\, Incorporated. Consequently\, proof of membership is required and must be verified before admittance to chapter meetings is granted. Accordingly\, visiting sorors are welcome but must be prepared to present their membership cards or credentials and photo identification to the Jackson (MS) Alumnae Chapter Sergeant-At-Arms upon arrival. First time visitors are encouraged to arrive early to allow time for your credentials to be verified before the start of the meeting. \nIf you desire to attend our meetings but have misplaced your membership card and are unable to verify your membership by other means\, complete the membership verification form prior to attending the meeting and submit it to Delta Sigma Theta National Headquarters Staff for verification\, or contact the Chapter President for assistance with verification. \nPLEASE CLICK HERE FOR THE VERIFICATION OF MEMBERSHIP FORM \nPlease be advised that business attire is required for every chapter meeting. \nFor additional information\, please contact MembershipServices@jacksonmsalumnae.org. \nIndividuals seeking membership in Delta Sigma Theta Sorority\, Inc. will NOT be admitted into the chapter meeting. For information regarding membership qualifications\, please visit our national website at www.deltasigmatheta.org.
URL:https://jacksonmsalumnae.org/event/chapter-meeting-2/
LOCATION:Kirksey Middle School\, 5677 Highland Drive\, Jackson\, MS\, 39206
ATTACH;FMTTYPE=image/png:https://jacksonmsalumnae.org/wp-content/uploads/2025/01/Chapter-Meeting-FLyer.png
END:VEVENT
BEGIN:VEVENT
DTSTART;TZID=America/Chicago:20250118T100000
DTEND;TZID=America/Chicago:20250118T120000
DTSTAMP:20260424T073908
CREATED:20250106T172841Z
LAST-MODIFIED:20250114T150927Z
UID:2695-1737194400-1737201600@jacksonmsalumnae.org
SUMMARY:Black Girl's Guide to Financial Freedom: Wealth Building Cohort
DESCRIPTION:Ready to take control of your finances and build a legacy of wealth? This transformational program is for YOU! \n\n\n Dive deep into Paris Woods’ “Black Girl’s Guide to Financial Freedom.”\n Learn budgeting\, debt elimination\, credit building\, and investing.\n Connect with a community of like-minded women.\n Starts January 18 2025 | Ends April 19 2025\n\n\n Let’s break barriers\, build wealth\, and create a brighter future!\n\n\n Secure your spot today and unlock your path to financial freedom!
URL:https://jacksonmsalumnae.org/event/black-girls-guide-to-financial-freedom-wealth-building-cohort/
LOCATION:Medgar Evers Library\, 4215 Medgar Evers Blvd\, Jackson\, MS\, 39213\, United States
ATTACH;FMTTYPE=image/jpeg:https://jacksonmsalumnae.org/wp-content/uploads/2025/01/JMAC-2025-Financial-Freedom-Cohort.jpg
END:VEVENT
BEGIN:VEVENT
DTSTART;TZID=America/Chicago:20250126T140000
DTEND;TZID=America/Chicago:20250126T170000
DTSTAMP:20260424T073908
CREATED:20250121T120046Z
LAST-MODIFIED:20250121T120121Z
UID:2870-1737900000-1737910800@jacksonmsalumnae.org
SUMMARY:Spring RUSH - Jackson (MS) Alumna Chapter
DESCRIPTION:Doors open at 12:30 pm \nBusiness Attire Required \nRUSH attendance is mandatory to receive an application packet. \nPrimary residence must be within the chapter’s service area (Jackson\, Rankin County\, and Tougaloo). \nFor questions please contact: mijacksonalumnae@gmail.com
URL:https://jacksonmsalumnae.org/event/spring-rush-jackson-ms-alumna-chapter/
LOCATION:Jackson Convention Complex Center\, 105 E Pascagoula Street\, Jackson\, Mississippi\, 39201
ATTACH;FMTTYPE=image/png:https://jacksonmsalumnae.org/wp-content/uploads/2025/01/RUSH-flyer-2025-Final.png
END:VEVENT
END:VCALENDAR