BEGIN:VCALENDAR
VERSION:2.0
PRODID:-//Jackson (MS) Alumnae Chapter - ECPv6.15.20//NONSGML v1.0//EN
CALSCALE:GREGORIAN
METHOD:PUBLISH
X-WR-CALNAME:Jackson (MS) Alumnae Chapter
X-ORIGINAL-URL:https://jacksonmsalumnae.org
X-WR-CALDESC:Events for Jackson (MS) Alumnae Chapter
REFRESH-INTERVAL;VALUE=DURATION:PT1H
X-Robots-Tag:noindex
X-PUBLISHED-TTL:PT1H
BEGIN:VTIMEZONE
TZID:America/Chicago
BEGIN:DAYLIGHT
TZOFFSETFROM:-0600
TZOFFSETTO:-0500
TZNAME:CDT
DTSTART:20230312T080000
END:DAYLIGHT
BEGIN:STANDARD
TZOFFSETFROM:-0500
TZOFFSETTO:-0600
TZNAME:CST
DTSTART:20231105T070000
END:STANDARD
BEGIN:DAYLIGHT
TZOFFSETFROM:-0600
TZOFFSETTO:-0500
TZNAME:CDT
DTSTART:20240310T080000
END:DAYLIGHT
BEGIN:STANDARD
TZOFFSETFROM:-0500
TZOFFSETTO:-0600
TZNAME:CST
DTSTART:20241103T070000
END:STANDARD
BEGIN:DAYLIGHT
TZOFFSETFROM:-0600
TZOFFSETTO:-0500
TZNAME:CDT
DTSTART:20250309T080000
END:DAYLIGHT
BEGIN:STANDARD
TZOFFSETFROM:-0500
TZOFFSETTO:-0600
TZNAME:CST
DTSTART:20251102T070000
END:STANDARD
END:VTIMEZONE
BEGIN:VEVENT
DTSTART;TZID=America/Chicago:20240912T183000
DTEND;TZID=America/Chicago:20240912T203000
DTSTAMP:20260424T131258
CREATED:20240828T203338Z
LAST-MODIFIED:20240828T203338Z
UID:2285-1726165800-1726173000@jacksonmsalumnae.org
SUMMARY:Hope in the Dark:  Understanding and Preventing Suicide
DESCRIPTION:September is Suicide Prevention Month!!! Mark your calendars and join us on Thursday\, September 12\, 2024 at 6:30 p.m. for our Suicide Prevention Awareness Webinar!
URL:https://jacksonmsalumnae.org/event/hope-in-the-dark-understanding-and-preventing-suicide/
CATEGORIES:Physical and Mental Health
ATTACH;FMTTYPE=image/png:https://jacksonmsalumnae.org/wp-content/uploads/2024/08/Suicide-Prevention-Awareness-Flyer-e1726508071602.png
END:VEVENT
BEGIN:VEVENT
DTSTART;TZID=America/Chicago:20240916T103000
DTEND;TZID=America/Chicago:20240916T120000
DTSTAMP:20260424T131258
CREATED:20240916T160003Z
LAST-MODIFIED:20240916T160003Z
UID:2369-1726482600-1726488000@jacksonmsalumnae.org
SUMMARY:#Action Jackson - Voter Registration and Education Event
DESCRIPTION:Jackson (MS) Alumnae Chapter’s Social Action Committee\, in collaboration with the Beta Alpha Chapter of Omega Psi Phi\, will educate students on the importance of voting and register those who are 18 years old or will be 18 years old by Election day on November 5th. \nMembers of each organization will be at each high school registering voters.
URL:https://jacksonmsalumnae.org/event/action-jackson-voter-registration-and-education-event/
CATEGORIES:Social Action
END:VEVENT
BEGIN:VEVENT
DTSTART;TZID=America/Chicago:20240928T080000
DTEND;TZID=America/Chicago:20240928T170000
DTSTAMP:20260424T131258
CREATED:20240901T225630Z
LAST-MODIFIED:20240901T225630Z
UID:2325-1727510400-1727542800@jacksonmsalumnae.org
SUMMARY:Virtual St. June Walk/Run
DESCRIPTION:September is Childhood Cancer Awareness Month and the Jackson (MS) Alumnae Chapter has kicked off our campaign to help fight against Childhood Cancer.\n\n\n\nJoin us as we support St. Jude Children’s Research Hospital in their mission of Finding Cures. Saving Children.\n\n\nClick the link to donate!\n\n\n\nhttps://fundraising.stjude.org/site/TR/Walk/Walk…
URL:https://jacksonmsalumnae.org/event/virtual-st-june-walk-run/
ATTACH;FMTTYPE=image/png:https://jacksonmsalumnae.org/wp-content/uploads/2024/09/Virtual-Walk.Run_.png
END:VEVENT
END:VCALENDAR