BEGIN:VCALENDAR
VERSION:2.0
PRODID:-//Jackson (MS) Alumnae Chapter - ECPv6.15.20//NONSGML v1.0//EN
CALSCALE:GREGORIAN
METHOD:PUBLISH
X-WR-CALNAME:Jackson (MS) Alumnae Chapter
X-ORIGINAL-URL:https://jacksonmsalumnae.org
X-WR-CALDESC:Events for Jackson (MS) Alumnae Chapter
REFRESH-INTERVAL;VALUE=DURATION:PT1H
X-Robots-Tag:noindex
X-PUBLISHED-TTL:PT1H
BEGIN:VTIMEZONE
TZID:America/Chicago
BEGIN:DAYLIGHT
TZOFFSETFROM:-0600
TZOFFSETTO:-0500
TZNAME:CDT
DTSTART:20230312T080000
END:DAYLIGHT
BEGIN:STANDARD
TZOFFSETFROM:-0500
TZOFFSETTO:-0600
TZNAME:CST
DTSTART:20231105T070000
END:STANDARD
BEGIN:DAYLIGHT
TZOFFSETFROM:-0600
TZOFFSETTO:-0500
TZNAME:CDT
DTSTART:20240310T080000
END:DAYLIGHT
BEGIN:STANDARD
TZOFFSETFROM:-0500
TZOFFSETTO:-0600
TZNAME:CST
DTSTART:20241103T070000
END:STANDARD
BEGIN:DAYLIGHT
TZOFFSETFROM:-0600
TZOFFSETTO:-0500
TZNAME:CDT
DTSTART:20250309T080000
END:DAYLIGHT
BEGIN:STANDARD
TZOFFSETFROM:-0500
TZOFFSETTO:-0600
TZNAME:CST
DTSTART:20251102T070000
END:STANDARD
END:VTIMEZONE
BEGIN:VEVENT
DTSTART;VALUE=DATE:20240501
DTEND;VALUE=DATE:20240502
DTSTAMP:20260424T182838
CREATED:20240424T141328Z
LAST-MODIFIED:20240424T141328Z
UID:1343-1714521600-1714607999@jacksonmsalumnae.org
SUMMARY:Application Deadline for Delta Academy\, Delta GEMS\, & EMBODI
DESCRIPTION:Jackson (MS) Alumnae Chapter of Delta Sigma Theta Sorority\, Inc. is currently accepting applications for Delta Academy\, Delta GEMS\, & EMBODI. All interested rising 6th-11th grade students are encouraged to supply.
URL:https://jacksonmsalumnae.org/event/application-deadline-for-delta-academy-delta-gems-embodi/
END:VEVENT
BEGIN:VEVENT
DTSTART;TZID=America/Chicago:20240518T100000
DTEND;TZID=America/Chicago:20240518T120000
DTSTAMP:20260424T182838
CREATED:20240424T141545Z
LAST-MODIFIED:20240424T141545Z
UID:1349-1716026400-1716033600@jacksonmsalumnae.org
SUMMARY:Chapter Meeting
DESCRIPTION:The Jackson (MS) Alumnae Chapter of Delta Sigma Theta Sorority\, Inc.\, meets on the second Saturday of each month (October – April and on the third Saturday in September and May unless otherwise noted on the Calendar). Chapter Meetings begin at 10:00 a.m. \n  \nMeetings are ONLY open to duly initiated members of Delta Sigma Theta Sorority\, Incorporated. Consequently\, proof of membership is required and must be verified before admittance to chapter meetings is granted. Accordingly\, visiting sorors are welcome but must be prepared to present their membership cards or credentials and photo identification to the Jackson (MS) Alumnae Chapter Sergeant-At-Arms upon arrival. First time visitors are encouraged to arrive early to allow time for your credentials to be verified before the start of the meeting.
URL:https://jacksonmsalumnae.org/event/chapter-meeting/
END:VEVENT
END:VCALENDAR