BEGIN:VCALENDAR
VERSION:2.0
PRODID:-//Jackson (MS) Alumnae Chapter - ECPv6.15.20//NONSGML v1.0//EN
CALSCALE:GREGORIAN
METHOD:PUBLISH
X-ORIGINAL-URL:https://jacksonmsalumnae.org
X-WR-CALDESC:Events for Jackson (MS) Alumnae Chapter
REFRESH-INTERVAL;VALUE=DURATION:PT1H
X-Robots-Tag:noindex
X-PUBLISHED-TTL:PT1H
BEGIN:VTIMEZONE
TZID:UTC
BEGIN:STANDARD
TZOFFSETFROM:+0000
TZOFFSETTO:+0000
TZNAME:UTC
DTSTART:20230101T000000
END:STANDARD
END:VTIMEZONE
BEGIN:VTIMEZONE
TZID:America/Chicago
BEGIN:DAYLIGHT
TZOFFSETFROM:-0600
TZOFFSETTO:-0500
TZNAME:CDT
DTSTART:20230312T080000
END:DAYLIGHT
BEGIN:STANDARD
TZOFFSETFROM:-0500
TZOFFSETTO:-0600
TZNAME:CST
DTSTART:20231105T070000
END:STANDARD
BEGIN:DAYLIGHT
TZOFFSETFROM:-0600
TZOFFSETTO:-0500
TZNAME:CDT
DTSTART:20240310T080000
END:DAYLIGHT
BEGIN:STANDARD
TZOFFSETFROM:-0500
TZOFFSETTO:-0600
TZNAME:CST
DTSTART:20241103T070000
END:STANDARD
BEGIN:DAYLIGHT
TZOFFSETFROM:-0600
TZOFFSETTO:-0500
TZNAME:CDT
DTSTART:20250309T080000
END:DAYLIGHT
BEGIN:STANDARD
TZOFFSETFROM:-0500
TZOFFSETTO:-0600
TZNAME:CST
DTSTART:20251102T070000
END:STANDARD
END:VTIMEZONE
BEGIN:VEVENT
DTSTART;TZID=UTC:20240309T000000
DTEND;TZID=UTC:20240309T235959
DTSTAMP:20260424T211300
CREATED:20240313T060055Z
LAST-MODIFIED:20240313T060055Z
UID:46-1709942400-1710028799@jacksonmsalumnae.org
SUMMARY:Deadline: Endowed Scholarship Application
DESCRIPTION:Attention Tougaloo College Sophomore and Junior Students!\n\n\nThe Jackson (MS) Alumnae’s Chapter’s Endowed Scholarship Application deadline is March 9\, 2024. \n\n\nApplication Link:https://form.jotform.com/JMA…/JMAC-endowed-scholarship-app\n\n\nAll current sophomore and junior females who are Deltas or who are NOT already members of other National Pan-Hellenic Council organizations are encouraged to apply. Applicants must be currently enrolled full-time students at Tougaloo College.
URL:https://jacksonmsalumnae.org/event/deadline-endowed-scholarship-application/
END:VEVENT
BEGIN:VEVENT
DTSTART;TZID=UTC:20240321T183000
DTEND;TZID=UTC:20240321T193000
DTSTAMP:20260424T211300
CREATED:20240313T054538Z
LAST-MODIFIED:20240313T054538Z
UID:25-1711045800-1711049400@jacksonmsalumnae.org
SUMMARY:"Nami In Your Own Voice" Living With Mental Illness
DESCRIPTION:In JMAC\, Mental Health Matters! The Physical and Mental Health Committee in collaboration with NAMI Mississippi invite you to join us on March 21\, 2024\, from 6:30-8:00 PM via Zoom webinar\, where we will be discussing mental illness\, mental health\, resources\, and support. Improving one life at a time! Register now!! #JMAC #NAMIInYourOwnVoice \n \nRegister in advance for this webinar:\nhttps://us06web.zoom.us/webinar/register/WN_iESz0e3kSm-O-I72Mbc6Mw \nAfter registering\, you will receive a confirmation email containing information about joining the webinar.
URL:https://jacksonmsalumnae.org/event/nami-in-your-own-voice-living-with-mental-illness/
END:VEVENT
BEGIN:VEVENT
DTSTART;TZID=America/Chicago:20240330T140000
DTEND;TZID=America/Chicago:20240330T160000
DTSTAMP:20260424T211300
CREATED:20240327T164459Z
LAST-MODIFIED:20240327T164624Z
UID:958-1711807200-1711814400@jacksonmsalumnae.org
SUMMARY:A Taste of Cultural Diversity Around the Globe
DESCRIPTION:Don’t miss out on a global celebration of flavors\, music\, and culture! Our ‘A Taste of Cultural Diversity Around the Globe’ event is just around the corner on March 30th\, from 2-4 PM at the Jackson Medical Mall Center Stage. Mark your calendars and join us for an unforgettable experience!
URL:https://jacksonmsalumnae.org/event/a-taste-of-cultural-diversity-around-the-globe/
LOCATION:Jackson Medical Mall\, 350 W Woodrow Wilson Avenue\, Jackson\, Mississippi\, 39213
END:VEVENT
END:VCALENDAR