BEGIN:VCALENDAR
VERSION:2.0
PRODID:-//Jackson (MS) Alumnae Chapter - ECPv6.15.20//NONSGML v1.0//EN
CALSCALE:GREGORIAN
METHOD:PUBLISH
X-WR-CALNAME:Jackson (MS) Alumnae Chapter
X-ORIGINAL-URL:https://jacksonmsalumnae.org
X-WR-CALDESC:Events for Jackson (MS) Alumnae Chapter
REFRESH-INTERVAL;VALUE=DURATION:PT1H
X-Robots-Tag:noindex
X-PUBLISHED-TTL:PT1H
BEGIN:VTIMEZONE
TZID:UTC
BEGIN:STANDARD
TZOFFSETFROM:+0000
TZOFFSETTO:+0000
TZNAME:UTC
DTSTART:20230101T000000
END:STANDARD
END:VTIMEZONE
BEGIN:VEVENT
DTSTART;TZID=UTC:20240203T100000
DTEND;TZID=UTC:20240203T120000
DTSTAMP:20260424T104425
CREATED:20240313T055057Z
LAST-MODIFIED:20240313T055057Z
UID:38-1706954400-1706961600@jacksonmsalumnae.org
SUMMARY:Go Red for Women - Stomp Out Heart Disease
DESCRIPTION:Please support and help us reach our goal of $1300 to aid in the fight against heart disease. click the link to donate and remember to share the link with your family and friends. \nRaise Your Way (funraise.org)
URL:https://jacksonmsalumnae.org/event/go-red-for-women-stomp-out-heart-disease/
LOCATION:Jackson Medical Mall\, 350 W Woodrow Wilson Avenue\, Jackson\, Mississippi\, 39213
END:VEVENT
BEGIN:VEVENT
DTSTART;TZID=UTC:20240130T180000
DTEND;TZID=UTC:20240130T200000
DTSTAMP:20260424T104425
CREATED:20240313T055002Z
LAST-MODIFIED:20240313T055002Z
UID:35-1706637600-1706644800@jacksonmsalumnae.org
SUMMARY:Laboring With Hope
DESCRIPTION:Delta Research and Educational Foundation in Collaboration with Jackson (MS) Alumnae Chapter of Delta Sigma Theta Sorority\, Inc. and Reuben V. Anderson Institute for Social Justice presents Laboring with Hope: Birthing Conversations on Maternal Health Wellness with Dr. Nakeitra Nurse\, Owner and Principal Strategist for Six Dimensions
URL:https://jacksonmsalumnae.org/event/laboring-with-hope/
LOCATION:Jackson Convention Complex Center\, 105 E Pascagoula Street\, Jackson\, Mississippi\, 39201
END:VEVENT
BEGIN:VEVENT
DTSTART;TZID=UTC:20240129T000000
DTEND;TZID=UTC:20240130T235959
DTSTAMP:20260424T104425
CREATED:20240313T054859Z
LAST-MODIFIED:20240313T054859Z
UID:32-1706486400-1706659199@jacksonmsalumnae.org
SUMMARY:DDAC: Taking a Stand by Taking Our Seats
DESCRIPTION:
URL:https://jacksonmsalumnae.org/event/ddac-taking-a-stand-by-taking-our-seats/
LOCATION:Mississippi State Capitol\, 400 High Street\, Jackson\, Mississippi\, 39201
END:VEVENT
BEGIN:VEVENT
DTSTART;TZID=UTC:20240111T180000
DTEND;TZID=UTC:20240111T200000
DTSTAMP:20260424T104425
CREATED:20240313T060322Z
LAST-MODIFIED:20240319T095001Z
UID:48-1704996000-1705003200@jacksonmsalumnae.org
SUMMARY:Bring Back Our Girls: National Human Trafficking Awareness Day
DESCRIPTION:
URL:https://jacksonmsalumnae.org/event/bring-back-our-girls-national-human-trafficking-awareness-day/
LOCATION:Touglaloo College
END:VEVENT
END:VCALENDAR