BEGIN:VCALENDAR
VERSION:2.0
PRODID:-//Jackson (MS) Alumnae Chapter - ECPv6.15.20//NONSGML v1.0//EN
CALSCALE:GREGORIAN
METHOD:PUBLISH
X-WR-CALNAME:Jackson (MS) Alumnae Chapter
X-ORIGINAL-URL:https://jacksonmsalumnae.org
X-WR-CALDESC:Events for Jackson (MS) Alumnae Chapter
REFRESH-INTERVAL;VALUE=DURATION:PT1H
X-Robots-Tag:noindex
X-PUBLISHED-TTL:PT1H
BEGIN:VTIMEZONE
TZID:America/Chicago
BEGIN:DAYLIGHT
TZOFFSETFROM:-0600
TZOFFSETTO:-0500
TZNAME:CDT
DTSTART:20240310T080000
END:DAYLIGHT
BEGIN:STANDARD
TZOFFSETFROM:-0500
TZOFFSETTO:-0600
TZNAME:CST
DTSTART:20241103T070000
END:STANDARD
BEGIN:DAYLIGHT
TZOFFSETFROM:-0600
TZOFFSETTO:-0500
TZNAME:CDT
DTSTART:20250309T080000
END:DAYLIGHT
BEGIN:STANDARD
TZOFFSETFROM:-0500
TZOFFSETTO:-0600
TZNAME:CST
DTSTART:20251102T070000
END:STANDARD
BEGIN:DAYLIGHT
TZOFFSETFROM:-0600
TZOFFSETTO:-0500
TZNAME:CDT
DTSTART:20260308T080000
END:DAYLIGHT
BEGIN:STANDARD
TZOFFSETFROM:-0500
TZOFFSETTO:-0600
TZNAME:CST
DTSTART:20261101T070000
END:STANDARD
BEGIN:DAYLIGHT
TZOFFSETFROM:-0600
TZOFFSETTO:-0500
TZNAME:CDT
DTSTART:20270314T080000
END:DAYLIGHT
BEGIN:STANDARD
TZOFFSETFROM:-0500
TZOFFSETTO:-0600
TZNAME:CST
DTSTART:20271107T070000
END:STANDARD
END:VTIMEZONE
BEGIN:VEVENT
DTSTART;TZID=America/Chicago:20250607T073000
DTEND;TZID=America/Chicago:20250607T130000
DTSTAMP:20260424T085818
CREATED:20250526T224318Z
LAST-MODIFIED:20250526T224318Z
UID:3313-1749281400-1749301200@jacksonmsalumnae.org
SUMMARY:Community Garage Sale
DESCRIPTION:Bring your cash and best negotiating skills!Proceeds will support our Programmatic Thrusts by helping to address education\, health\, international development\, and the strengthening of the African American family.
URL:https://jacksonmsalumnae.org/event/community-garage-sale/
LOCATION:JPS Transportation North\, 4015 Watkins Drive\, Jackson\, MS\, United States
ATTACH;FMTTYPE=image/jpeg:https://jacksonmsalumnae.org/wp-content/uploads/2025/05/500252399_1007189614961815_1413712219573838651_n.jpg
END:VEVENT
BEGIN:VEVENT
DTSTART;TZID=America/Chicago:20251004T090000
DTEND;TZID=America/Chicago:20251004T120000
DTSTAMP:20260424T085818
CREATED:20250917T155358Z
LAST-MODIFIED:20250917T155358Z
UID:3472-1759568400-1759579200@jacksonmsalumnae.org
SUMMARY:Aging with Dignity
DESCRIPTION:Join us at the Aging With Dignity event!  We’re bringing together older adults\, families\, and community partners for an inspiring day of connection\, learning\, and empowerment. Together\, we’ll celebrate health and wellness\, independent living\, and dignity in aging. This event is FREE and open to the public — all are welcome! Saturday\, October 4\, 2025 Oak Street Health – Jackson North\, 4541 N. State St. 9:00 AM – 12:00 PM�Featured Speakers: Charles Smith\, My Health My Mississippi\, Food for Life Instructor Jean-Paul Willard\, Diabetes Foundation of Mississippi Timaka James-Jones\, Mississippi House of Representatives\, District 51Enjoy: Free Health Screenings & Wellness Resources Free Chair Massages (Older Adults\, 60+ only) Vaccinations (Insurance Card Required) Healthy Eating Demonstration Vendor Booths with Supports & Services Light Fitness Activities Refreshments Served \n  \n 
URL:https://jacksonmsalumnae.org/event/aging-with-dignity/
LOCATION:Oak Street Health-Jackson North\, 4541 N. State Street\, Jackson\, MS\, 39296
ATTACH;FMTTYPE=image/jpeg:https://jacksonmsalumnae.org/wp-content/uploads/2025/09/JMAC-Aging-with-Dignity.jpg
END:VEVENT
BEGIN:VEVENT
DTSTART;TZID=America/Chicago:20251025T070000
DTEND;TZID=America/Chicago:20251025T130000
DTSTAMP:20260424T085818
CREATED:20251005T181632Z
LAST-MODIFIED:20251005T181632Z
UID:3482-1761375600-1761397200@jacksonmsalumnae.org
SUMMARY:Making Strides Against Breast Cancer
DESCRIPTION:The Jackson (MS) Alumnae Chapter of Delta Sigma Theta Sorority\, Inc. understands the importance of bringing awareness to and supporting the fight against breast cancer. Each year\, we proudly participate in Making Strides Against Breast Cancer Walk in support of the American Cancer Society. \nWe invite you to join us—by walking\, donating\, and uplifting survivors and their families. Together\, we can make a difference! \nTo support our fundraising efforts for the American Cancer Society\, click here: https://secure.acsevents.org/site/STR?fr_id=110750&pg=team&team_id=2804919
URL:https://jacksonmsalumnae.org/event/making-strides-against-breast-cancer/
LOCATION:1 Braves Way\, Pearl\, MS\, 1 Braves Way\, Pearl\, Mississippi\, 39208\, United States
ATTACH;FMTTYPE=image/png:https://jacksonmsalumnae.org/wp-content/uploads/2025/10/REV-2025-Making-Strides-Flyer-scaled.png
END:VEVENT
BEGIN:VEVENT
DTSTART;TZID=America/Chicago:20251130T173000
DTEND;TZID=America/Chicago:20251130T203000
DTSTAMP:20260424T085818
CREATED:20251116T002425Z
LAST-MODIFIED:20251202T003004Z
UID:3496-1764523800-1764534600@jacksonmsalumnae.org
SUMMARY:Debate\, Legacy & Light: A Virtual Delta Night
DESCRIPTION:Join the Jackson (MS) Alumnae Chapter\, Delta Sigma Theta Sorority\, Inc. Arts & Letters Committee in collaboration with Carlisle Consulting for an inspiring evening!We’ll explore key scenes from The Great Debaters and engage in a powerful panel discussion on education\, advocacy\, and legacy. **Sunday\, November 30\, 2025 5:30PM – 9:00PM Featured Film: The Great Debaters Panelists:Dr. Candice Love Jackson | Dr. Mauda Monger | Dr. Damian Thomas | Dr. Shalonda Carlisle Plus additional special guests Wear your HBCU paraphernalia proudly!
URL:https://jacksonmsalumnae.org/event/debate-legacy-light-a-virtual-delta-night/
ATTACH;FMTTYPE=image/jpeg:https://jacksonmsalumnae.org/wp-content/uploads/2025/12/Debate-Legacy-and-Light.jpg
END:VEVENT
BEGIN:VEVENT
DTSTART;TZID=America/Chicago:20260207T100000
DTEND;TZID=America/Chicago:20260207T120000
DTSTAMP:20260424T085818
CREATED:20260203T003335Z
LAST-MODIFIED:20260203T003335Z
UID:3535-1770458400-1770465600@jacksonmsalumnae.org
SUMMARY:Go Red: Power of a Healthy Heart
DESCRIPTION: IT’S A HEART CHECK Your heart deserves the spotlight!Join us 2/7/26 at 10AM for a powerful Go Red Event featuring: FREE cardiovascular screenings Live nutrition demonstration Impactful speakers Donate to the American Heart Association https://raiseyourwayforaha.funraise.org/…/jackson-ms…\n Dress comfortably.  Let’s protect our hearts — together. 
URL:https://jacksonmsalumnae.org/event/go-red-power-of-a-healthy-heart/
ATTACH;FMTTYPE=image/jpeg:https://jacksonmsalumnae.org/wp-content/uploads/2026/02/Go-REd-Power-of-a-Healthy-Heart.jpg
END:VEVENT
BEGIN:VEVENT
DTSTART;VALUE=DATE:20260315
DTEND;VALUE=DATE:20260316
DTSTAMP:20260424T085818
CREATED:20260211T170542Z
LAST-MODIFIED:20260211T170542Z
UID:3571-1773532800-1773619199@jacksonmsalumnae.org
SUMMARY:Scholarship Application Deadline
DESCRIPTION:🎓 SCHOLARSHIP OPPORTUNITY 🎓 \nThe Jackson (MS) Alumnae Chapter of Delta Sigma Theta Sorority\, Inc. is accepting applications for its Endowed Scholarship Competition. \nWho can apply:\n• Current sophomore and junior female students\n• Enrolled full-time at Tougaloo College\n• Deltas or students not affiliated with another NPHC organization \n📅 Deadline: March 15\, 2026 \n📲 Scan the QR code or apply online:\n👉 http://www.jacksonmsalumnae.org/scholarship \n📧 Questions? educationaldevelopment@jacksonmsalumnae.org
URL:https://jacksonmsalumnae.org/event/scholarship-application-deadline/
CATEGORIES:Educational Development
ATTACH;FMTTYPE=image/jpeg:https://jacksonmsalumnae.org/wp-content/uploads/2026/02/Endowed-Scholarship-flyer.jpg
END:VEVENT
BEGIN:VEVENT
DTSTART;TZID=America/Chicago:20260321T180000
DTEND;TZID=America/Chicago:20260321T203000
DTSTAMP:20260424T085818
CREATED:20260323T000122Z
LAST-MODIFIED:20260323T000122Z
UID:3591-1774116000-1774125000@jacksonmsalumnae.org
SUMMARY:Drive-In Movie Night
DESCRIPTION:Need plans this Saturday?\n\n\nJoin us for a Drive-In Movie Night on March 21\, 2026! Gates open at 6 PM\, and the movie starts at 8 PM at Forest Hill High School.\n\n\nAdmission is $10 per person and includes popcorn and a drink. Entry for children 5 and under is free. Additional concessions will be available for purchase.\n\n\nThe mystery movie will be both family friendly and entertaining!\n\n\nGrab your crew and come enjoy a fun night out!
URL:https://jacksonmsalumnae.org/event/drive-in-movie-night/
ATTACH;FMTTYPE=image/jpeg:https://jacksonmsalumnae.org/wp-content/uploads/2026/03/movie.jpg
END:VEVENT
BEGIN:VEVENT
DTSTART;TZID=America/Chicago:20260418T200000
DTEND;TZID=America/Chicago:20260418T233000
DTSTAMP:20260424T085818
CREATED:20260211T164145Z
LAST-MODIFIED:20260211T164145Z
UID:3565-1776542400-1776555000@jacksonmsalumnae.org
SUMMARY:Unmasking Excellence - A Masquerade Experience
DESCRIPTION:Saturday\, April 18th\n8PM\n\n\nMississippi Trade Mart\n1200 Mississippi Street\nDowntown Jackson\, MS\n\n\nTICKETS GO ON SALE SOON\nCurated by Jackson MS Alumnae Chapter of Delta Sigma Theta Sorority\, Inc. and Beta Alpha Chapter of Omega Psi Phi Fraternity\, Inc \n#masqueradeparty
URL:https://jacksonmsalumnae.org/event/unmasking-excellence-a-masquerade-experience/
LOCATION:Mississippi Trade Mart\, 1200 Mississippi Street\, Jackson\, Mississippi
ATTACH;FMTTYPE=image/jpeg:https://jacksonmsalumnae.org/wp-content/uploads/2026/02/Unmasking-Excellence-A-Masquerade-Experience.jpg
END:VEVENT
BEGIN:VEVENT
DTSTART;VALUE=DATE:20260425
DTEND;VALUE=DATE:20260426
DTSTAMP:20260424T085818
CREATED:20260322T235957Z
LAST-MODIFIED:20260322T235957Z
UID:3589-1777075200-1777161599@jacksonmsalumnae.org
SUMMARY:Canvas for a Cause - Drawing Date
DESCRIPTION:What if $5 could bring home a stunning piece of original art?\n\n\nThe Jackson (MS) Alumnae Chapter of Delta Sigma Theta Sorority\, Inc. Arts & Letters Committee invites you to participate in Canvas for a Cause — Community Art Raffle!\n\n\n 5 Winners\n 5 Beautiful Original Art Pieces\n One Powerful Cause\n\n\nThese stunning works were generously donated by talented artists who believe in the power of art to inspire\, educate\, and uplift communities. Your ticket purchase helps support arts programming\, cultural experiences\, and creative opportunities throughout our community.\n\n\n Ticket Options\n$5 – 1 Ticket\n$20 – 5 Tickets\n$40 – 12 Tickets\n\n\n Drawing Date: April 25\, 2026\n\n\n One ticket could place a beautiful piece of art in your home while supporting a meaningful cause.\n\n\n Enter to win today!\nhttps://form.jotform.com/JMACtechnology/canvas-for-a-cause\n\n\n#CanvasForACause
URL:https://jacksonmsalumnae.org/event/canvas-for-a-cause-drawing-date/
ATTACH;FMTTYPE=image/jpeg:https://jacksonmsalumnae.org/wp-content/uploads/2026/03/Canvas-for-a-Cause.jpg
END:VEVENT
END:VCALENDAR