BEGIN:VCALENDAR
VERSION:2.0
PRODID:-//Jackson (MS) Alumnae Chapter - ECPv6.15.20//NONSGML v1.0//EN
CALSCALE:GREGORIAN
METHOD:PUBLISH
X-ORIGINAL-URL:https://jacksonmsalumnae.org
X-WR-CALDESC:Events for Jackson (MS) Alumnae Chapter
REFRESH-INTERVAL;VALUE=DURATION:PT1H
X-Robots-Tag:noindex
X-PUBLISHED-TTL:PT1H
BEGIN:VTIMEZONE
TZID:America/Chicago
BEGIN:DAYLIGHT
TZOFFSETFROM:-0600
TZOFFSETTO:-0500
TZNAME:CDT
DTSTART:20240310T080000
END:DAYLIGHT
BEGIN:STANDARD
TZOFFSETFROM:-0500
TZOFFSETTO:-0600
TZNAME:CST
DTSTART:20241103T070000
END:STANDARD
BEGIN:DAYLIGHT
TZOFFSETFROM:-0600
TZOFFSETTO:-0500
TZNAME:CDT
DTSTART:20250309T080000
END:DAYLIGHT
BEGIN:STANDARD
TZOFFSETFROM:-0500
TZOFFSETTO:-0600
TZNAME:CST
DTSTART:20251102T070000
END:STANDARD
BEGIN:DAYLIGHT
TZOFFSETFROM:-0600
TZOFFSETTO:-0500
TZNAME:CDT
DTSTART:20260308T080000
END:DAYLIGHT
BEGIN:STANDARD
TZOFFSETFROM:-0500
TZOFFSETTO:-0600
TZNAME:CST
DTSTART:20261101T070000
END:STANDARD
END:VTIMEZONE
BEGIN:VEVENT
DTSTART;TZID=America/Chicago:20250426T160000
DTEND;TZID=America/Chicago:20250426T190000
DTSTAMP:20260424T061855
CREATED:20250423T141155Z
LAST-MODIFIED:20250423T141155Z
UID:3215-1745683200-1745694000@jacksonmsalumnae.org
SUMMARY:Spring 2025 New Initiate Presentation
DESCRIPTION:Join the Jackson (MS) Alumnae Chapter of Delta Sigma Theta Sorority\, Inc. for the highly anticipatedSPRINT 2025 New Initiate Presentation! \n📅 Saturday\, April 26\, 2025📍 Jackson Convention Complex109 E. Pascagoula Street | Jackson\, MS⏰ Doors open at 3:00 PM | Show begins at 4:00 PM \n👕 Attire: Casual🎈 Please note: Balloons are not permitted inside the venue. \nCome celebrate excellence\, sisterhood\, and tradition as we welcome the newest jewels to the Delta legacy! 💎❤️ \n📧 For more info: MIJacksonAlumnae@gmail.com
URL:https://jacksonmsalumnae.org/event/spring-2025-new-initiate-presentation/
LOCATION:Jackson Convention Complex Center\, 105 E Pascagoula Street\, Jackson\, Mississippi\, 39201
ATTACH;FMTTYPE=image/jpeg:https://jacksonmsalumnae.org/wp-content/uploads/2025/04/JMAC-NIP-Flyer.jpg
END:VEVENT
END:VCALENDAR