BEGIN:VCALENDAR
VERSION:2.0
PRODID:-//Jackson (MS) Alumnae Chapter - ECPv6.15.20//NONSGML v1.0//EN
CALSCALE:GREGORIAN
METHOD:PUBLISH
X-WR-CALNAME:Jackson (MS) Alumnae Chapter
X-ORIGINAL-URL:https://jacksonmsalumnae.org
X-WR-CALDESC:Events for Jackson (MS) Alumnae Chapter
REFRESH-INTERVAL;VALUE=DURATION:PT1H
X-Robots-Tag:noindex
X-PUBLISHED-TTL:PT1H
BEGIN:VTIMEZONE
TZID:America/Chicago
BEGIN:DAYLIGHT
TZOFFSETFROM:-0600
TZOFFSETTO:-0500
TZNAME:CDT
DTSTART:20240310T080000
END:DAYLIGHT
BEGIN:STANDARD
TZOFFSETFROM:-0500
TZOFFSETTO:-0600
TZNAME:CST
DTSTART:20241103T070000
END:STANDARD
BEGIN:DAYLIGHT
TZOFFSETFROM:-0600
TZOFFSETTO:-0500
TZNAME:CDT
DTSTART:20250309T080000
END:DAYLIGHT
BEGIN:STANDARD
TZOFFSETFROM:-0500
TZOFFSETTO:-0600
TZNAME:CST
DTSTART:20251102T070000
END:STANDARD
BEGIN:DAYLIGHT
TZOFFSETFROM:-0600
TZOFFSETTO:-0500
TZNAME:CDT
DTSTART:20260308T080000
END:DAYLIGHT
BEGIN:STANDARD
TZOFFSETFROM:-0500
TZOFFSETTO:-0600
TZNAME:CST
DTSTART:20261101T070000
END:STANDARD
END:VTIMEZONE
BEGIN:VEVENT
DTSTART;TZID=America/Chicago:20250329T100000
DTEND;TZID=America/Chicago:20250329T120000
DTSTAMP:20260424T061634
CREATED:20250305T201039Z
LAST-MODIFIED:20250305T201039Z
UID:3085-1743242400-1743249600@jacksonmsalumnae.org
SUMMARY:Ladies of Fortitude Book Club
DESCRIPTION:Please join us at Medgar Evers Library on 29 March 2025 at 10:00 for a roundtable discussion with author C.L. Jackson
URL:https://jacksonmsalumnae.org/event/ladies-of-fortitude-book-club/
LOCATION:Medgar Evers Library\, 4215 Medgar Evers Blvd\, Jackson\, MS\, 39213\, United States
ATTACH;FMTTYPE=image/jpeg:https://jacksonmsalumnae.org/wp-content/uploads/2025/03/Deserving-Grace.jpg
END:VEVENT
BEGIN:VEVENT
DTSTART;TZID=America/Chicago:20250329T110000
DTEND;TZID=America/Chicago:20250329T140000
DTSTAMP:20260424T061634
CREATED:20250204T022615Z
LAST-MODIFIED:20250204T022615Z
UID:2921-1743246000-1743256800@jacksonmsalumnae.org
SUMMARY:Cultural Arts Fair: “WOMEN HISTORY: One World\, Many Stories” The Soulfulness of a Woman
DESCRIPTION:Join Us for a Celebration of Culture & Womanhood! \nExperience the Cultural Arts Fair as we honor Women’s History with our powerful theme:\n“One World\, Many Stories” – The Soulfulness of a Woman. \nEnjoy live performances\, international cuisine\, cultural exhibits\, and inspiring tributes to the strength and diversity of women across the world! \nDon’t miss this unforgettable event!
URL:https://jacksonmsalumnae.org/event/cultural-arts-fair-women-history-one-world-many-stories-the-soulfulness-of-a-woman/
END:VEVENT
BEGIN:VEVENT
DTSTART;TZID=America/Chicago:20250329T110000
DTEND;TZID=America/Chicago:20250329T140000
DTSTAMP:20260424T061634
CREATED:20250318T013116Z
LAST-MODIFIED:20250318T013116Z
UID:3127-1743246000-1743256800@jacksonmsalumnae.org
SUMMARY:Cultural Arts Fair
DESCRIPTION:Join Us for a Celebration of Culture & Womanhood!\n\n\nExperience the Cultural Arts Fair as we honor Women’s History with our powerful theme:\n“One World\, Many Stories” – The Soulfulness of a Woman.\n\n\nEnjoy live performances\, international cuisine\, cultural exhibits\, and inspiring tributes to the strength and diversity of women across the world!\n\n\nDon’t miss this unforgettable event! Tag a friend & let’s celebrate together!
URL:https://jacksonmsalumnae.org/event/cultural-arts-fair/
LOCATION:JSU College of Science\, Engineering\, and Technology Building
ATTACH;FMTTYPE=image/jpeg:https://jacksonmsalumnae.org/wp-content/uploads/2025/03/Cultural-Arts-Fair.jpg
END:VEVENT
END:VCALENDAR