BEGIN:VCALENDAR
VERSION:2.0
PRODID:-//Jackson (MS) Alumnae Chapter - ECPv6.15.20//NONSGML v1.0//EN
CALSCALE:GREGORIAN
METHOD:PUBLISH
X-ORIGINAL-URL:https://jacksonmsalumnae.org
X-WR-CALDESC:Events for Jackson (MS) Alumnae Chapter
REFRESH-INTERVAL;VALUE=DURATION:PT1H
X-Robots-Tag:noindex
X-PUBLISHED-TTL:PT1H
BEGIN:VTIMEZONE
TZID:America/Chicago
BEGIN:DAYLIGHT
TZOFFSETFROM:-0600
TZOFFSETTO:-0500
TZNAME:CDT
DTSTART:20230312T080000
END:DAYLIGHT
BEGIN:STANDARD
TZOFFSETFROM:-0500
TZOFFSETTO:-0600
TZNAME:CST
DTSTART:20231105T070000
END:STANDARD
BEGIN:DAYLIGHT
TZOFFSETFROM:-0600
TZOFFSETTO:-0500
TZNAME:CDT
DTSTART:20240310T080000
END:DAYLIGHT
BEGIN:STANDARD
TZOFFSETFROM:-0500
TZOFFSETTO:-0600
TZNAME:CST
DTSTART:20241103T070000
END:STANDARD
BEGIN:DAYLIGHT
TZOFFSETFROM:-0600
TZOFFSETTO:-0500
TZNAME:CDT
DTSTART:20250309T080000
END:DAYLIGHT
BEGIN:STANDARD
TZOFFSETFROM:-0500
TZOFFSETTO:-0600
TZNAME:CST
DTSTART:20251102T070000
END:STANDARD
END:VTIMEZONE
BEGIN:VEVENT
DTSTART;TZID=America/Chicago:20240803T160000
DTEND;TZID=America/Chicago:20240803T190000
DTSTAMP:20260424T155947
CREATED:20240507T021221Z
LAST-MODIFIED:20240507T021232Z
UID:1866-1722700800-1722711600@jacksonmsalumnae.org
SUMMARY:Alumni Step Show
DESCRIPTION:We are the M.A.R.V.E.L.: Massive Army Removing Violence and Encouraging Love \n 
URL:https://jacksonmsalumnae.org/event/alumni-step-show/
LOCATION:Jackson Convention Complex Center\, 105 E Pascagoula Street\, Jackson\, Mississippi\, 39201
END:VEVENT
END:VCALENDAR