BEGIN:VCALENDAR
VERSION:2.0
PRODID:-//Jackson (MS) Alumnae Chapter - ECPv6.15.20//NONSGML v1.0//EN
CALSCALE:GREGORIAN
METHOD:PUBLISH
X-WR-CALNAME:Jackson (MS) Alumnae Chapter
X-ORIGINAL-URL:https://jacksonmsalumnae.org
X-WR-CALDESC:Events for Jackson (MS) Alumnae Chapter
REFRESH-INTERVAL;VALUE=DURATION:PT1H
X-Robots-Tag:noindex
X-PUBLISHED-TTL:PT1H
BEGIN:VTIMEZONE
TZID:UTC
BEGIN:STANDARD
TZOFFSETFROM:+0000
TZOFFSETTO:+0000
TZNAME:UTC
DTSTART:20230101T000000
END:STANDARD
END:VTIMEZONE
BEGIN:VEVENT
DTSTART;TZID=UTC:20240321T183000
DTEND;TZID=UTC:20240321T193000
DTSTAMP:20260424T224149
CREATED:20240313T054538Z
LAST-MODIFIED:20240313T054538Z
UID:25-1711045800-1711049400@jacksonmsalumnae.org
SUMMARY:"Nami In Your Own Voice" Living With Mental Illness
DESCRIPTION:In JMAC\, Mental Health Matters! The Physical and Mental Health Committee in collaboration with NAMI Mississippi invite you to join us on March 21\, 2024\, from 6:30-8:00 PM via Zoom webinar\, where we will be discussing mental illness\, mental health\, resources\, and support. Improving one life at a time! Register now!! #JMAC #NAMIInYourOwnVoice \n \nRegister in advance for this webinar:\nhttps://us06web.zoom.us/webinar/register/WN_iESz0e3kSm-O-I72Mbc6Mw \nAfter registering\, you will receive a confirmation email containing information about joining the webinar.
URL:https://jacksonmsalumnae.org/event/nami-in-your-own-voice-living-with-mental-illness/
END:VEVENT
END:VCALENDAR